BEGIN:VCALENDAR
VERSION:2.0
PRODID:-//Sustainable Bainbridge - ECPv6.15.20//NONSGML v1.0//EN
CALSCALE:GREGORIAN
METHOD:PUBLISH
X-WR-CALNAME:Sustainable Bainbridge
X-ORIGINAL-URL:https://www.sustainablebainbridge.org
X-WR-CALDESC:Events for Sustainable Bainbridge
REFRESH-INTERVAL;VALUE=DURATION:PT1H
X-Robots-Tag:noindex
X-PUBLISHED-TTL:PT1H
BEGIN:VTIMEZONE
TZID:America/Los_Angeles
BEGIN:DAYLIGHT
TZOFFSETFROM:-0800
TZOFFSETTO:-0700
TZNAME:PDT
DTSTART:20180311T100000
END:DAYLIGHT
BEGIN:STANDARD
TZOFFSETFROM:-0700
TZOFFSETTO:-0800
TZNAME:PST
DTSTART:20181104T090000
END:STANDARD
BEGIN:DAYLIGHT
TZOFFSETFROM:-0800
TZOFFSETTO:-0700
TZNAME:PDT
DTSTART:20190310T100000
END:DAYLIGHT
BEGIN:STANDARD
TZOFFSETFROM:-0700
TZOFFSETTO:-0800
TZNAME:PST
DTSTART:20191103T090000
END:STANDARD
BEGIN:DAYLIGHT
TZOFFSETFROM:-0800
TZOFFSETTO:-0700
TZNAME:PDT
DTSTART:20200308T100000
END:DAYLIGHT
BEGIN:STANDARD
TZOFFSETFROM:-0700
TZOFFSETTO:-0800
TZNAME:PST
DTSTART:20201101T090000
END:STANDARD
BEGIN:DAYLIGHT
TZOFFSETFROM:-0800
TZOFFSETTO:-0700
TZNAME:PDT
DTSTART:20210314T100000
END:DAYLIGHT
BEGIN:STANDARD
TZOFFSETFROM:-0700
TZOFFSETTO:-0800
TZNAME:PST
DTSTART:20211107T090000
END:STANDARD
BEGIN:DAYLIGHT
TZOFFSETFROM:-0800
TZOFFSETTO:-0700
TZNAME:PDT
DTSTART:20220313T100000
END:DAYLIGHT
BEGIN:STANDARD
TZOFFSETFROM:-0700
TZOFFSETTO:-0800
TZNAME:PST
DTSTART:20221106T090000
END:STANDARD
BEGIN:DAYLIGHT
TZOFFSETFROM:-0800
TZOFFSETTO:-0700
TZNAME:PDT
DTSTART:20230312T100000
END:DAYLIGHT
BEGIN:STANDARD
TZOFFSETFROM:-0700
TZOFFSETTO:-0800
TZNAME:PST
DTSTART:20231105T090000
END:STANDARD
BEGIN:DAYLIGHT
TZOFFSETFROM:-0800
TZOFFSETTO:-0700
TZNAME:PDT
DTSTART:20240310T100000
END:DAYLIGHT
BEGIN:STANDARD
TZOFFSETFROM:-0700
TZOFFSETTO:-0800
TZNAME:PST
DTSTART:20241103T090000
END:STANDARD
BEGIN:DAYLIGHT
TZOFFSETFROM:-0800
TZOFFSETTO:-0700
TZNAME:PDT
DTSTART:20250309T100000
END:DAYLIGHT
BEGIN:STANDARD
TZOFFSETFROM:-0700
TZOFFSETTO:-0800
TZNAME:PST
DTSTART:20251102T090000
END:STANDARD
END:VTIMEZONE
BEGIN:VEVENT
DTSTART;TZID=America/Los_Angeles:20240914T120000
DTEND;TZID=America/Los_Angeles:20240914T170000
DTSTAMP:20260421T032622
CREATED:20240810T024559Z
LAST-MODIFIED:20240810T024724Z
UID:10000279-1726315200-1726333200@www.sustainablebainbridge.org
SUMMARY:BI Environmental Conference: Electrification Expo
DESCRIPTION:The conference will include speakers on a wide variety of topics surrounding electrification and conservation as tools for reducing our community carbon footprint and improving public health. We will hear from policy experts discussing the landscape of regulations and funding to help us at federal and local levels in making the transition towards electrifying and reducing energy use\, as well as discuss the practicalities of what electrification looks like\, hearing from homeowners and local organizations who have made these transitions. \nGo here for keynote speaker info and types of vendors and products on display. \n$5 for adults; free for students! \nClick here to register
URL:https://www.sustainablebainbridge.org/event/bi-environmental-conference-electrification-expo/
LOCATION:Woodward Middle School\, 9100 Sportsman Club Rd NE\, Bainbridge Island\, WA\, 98110
CATEGORIES:Climate & Energy Forum,Climate Action Bainbridge,Zero Waste
ATTACH;FMTTYPE=application/pdf:https://www.sustainablebainbridge.org/wp-content/uploads/2024/08/Enviro-Expo-poster-2024.pdf
ORGANIZER;CN="Mike Cox":MAILTO:climatecafe.earth@gmail.com
END:VEVENT
BEGIN:VEVENT
DTSTART;TZID=America/Los_Angeles:20230520T100000
DTEND;TZID=America/Los_Angeles:20230520T140000
DTSTAMP:20260421T032622
CREATED:20230312T203158Z
LAST-MODIFIED:20230509T144956Z
UID:10000200-1684576800-1684591200@www.sustainablebainbridge.org
SUMMARY:Kitsap Electric Vehicle & Bike Expo
DESCRIPTION:Learn more about electric vehicles and electric bikes\, eat good food\, and enjoy music by local bands! You’ll hear presentations by experts and be able to talk with owners of various electric vehicles and electric bikes. \nRecent years have seen exponential growth in the sale of electric vehicles\, as car makers have improved range\, provided more models\, and increased performance. About 13 percent of new cars sold in 2022 were electric. Similarly\, electric bikes are becoming increasingly popular. In 2022\, electric bike sales outpaced the combined sales of regular and hybrid bikes. \n\nQuestions?  Contact  kitsapevfair@gmail.com \nProgram \n10:00 – 11:00: Presentations \n\n\n\nWelcome – Brenda Fantroy-Johnson\, Mayor of Bainbridge Island\n\n\nCity of Bainbridge Island Activities: Autumn Salamack\, Climate Officer\n\n\nElectric Bikes: Tom Clune\, Owner BI Cycle\n\n\nElectrify Your Ride: Grace Reamer\, Board member Seattle Electric Vehicle Association and Coltura\n\n\nQuestions and Answers: Fran Korten\, Facilitator\n\n10:00 – 2:00: Kick the Tires \n\nLearn about electric vehicles from dealers\, car owners\, and bike owners.\n\n\nLearn about electric vehicle programs from Puget Sound Energy\, City of Bainbridge Island\, ZEV Coop\, Pacific Mobility\, Bainbridge Greenways\, and others.\n\n\nListen to local music and eat local food.\n\nParking \nAttendees: Please park in the South parking lot at Woodward Middle School (9125 Sportsman Club Road NE) or Sakai Intermediate School (9343 Sportsman Club Rd NE). \nEV dealers\, EV car owners\, EV bike owners\, organizations with tables: Please park in the North parking lot of Woodward Middle School.
URL:https://www.sustainablebainbridge.org/event/kitsap-electric-vehicle-bike-expo-2/
LOCATION:WA
CATEGORIES:Climate & Energy Forum
ATTACH;FMTTYPE=image/png:https://www.sustainablebainbridge.org/wp-content/uploads/2023/03/icons-electric-car-e-bike-green.png
ORGANIZER;CN="Climate and Energy Forum":MAILTO:toxman57@gmail.com
END:VEVENT
BEGIN:VEVENT
DTSTART;TZID=America/Los_Angeles:20210422T170000
DTEND;TZID=America/Los_Angeles:20210422T180000
DTSTAMP:20260421T032622
CREATED:20210403T064836Z
LAST-MODIFIED:20230320T173522Z
UID:10000144-1619110800-1619114400@www.sustainablebainbridge.org
SUMMARY:Movies That Matter: Kiss the Ground
DESCRIPTION:“Kiss the Ground” reveals that\, by regenerating the world’s soils\, we can completely and rapidly stabilize Earth’s climate\, restore lost ecosystems and create abundant food supplies. Watch the movie at your leisure on Netflix or starting April 10th by registering here. \nThen on April 22\, 5-6pm\, join a community discussion with Nate Stacey of the WSU Extension Office\, local farmers and farm advocates division\, at this Zoom link.
URL:https://www.sustainablebainbridge.org/event/movies-that-matter-kiss-the-ground/
LOCATION:Virtual
CATEGORIES:Climate & Energy Forum,Climate Action Bainbridge,Movies That Matter,Watershed Council,Zero Waste
ATTACH;FMTTYPE=image/png:https://www.sustainablebainbridge.org/wp-content/uploads/2021/04/Screenshot-Kiss-the-Ground-1.png
ORGANIZER;CN="Christine Perkins":MAILTO:christine@sustainablebainbridge.org
END:VEVENT
BEGIN:VEVENT
DTSTART;TZID=America/Los_Angeles:20210324T190000
DTEND;TZID=America/Los_Angeles:20210324T203000
DTSTAMP:20260421T032622
CREATED:20210315T154701Z
LAST-MODIFIED:20230320T173523Z
UID:10000140-1616612400-1616617800@www.sustainablebainbridge.org
SUMMARY:Our Climate\, Our Faith\, Our Future
DESCRIPTION:Acting on our Climate Action Plan Program \n\nOur City and Our CAP: Joe Deets (City Council) and Mike Cox (CCAC)\nCarbon footprint calculator: Marcy and Gary Lagerloef (CCAC)\nWhat faith calls us to do: Panel discussion and Q/A with:\nRev. Stephen Crippen\, Grace Episcopal Church\nRev. Zackrie Vinczen\, Cedars Unitarian/Universalist Church\nRabbi Dario Feiguin\, Congregation Kol Shalom\nDeb Rudnick\, Congregant\, Congregation Kol Shalom\nRev. Karen Haig\, St. Barnabas Episcopal Church\nBishop Tom Bell\, Church of Jesus Christ of LDS\n\nVideo Meeting Link:  https://bit.ly/march-24-interfaith\n\n\nFor more information contact John Kydd at john@kyddlaw.com \n\nListen to an interview previewing this forum.
URL:https://www.sustainablebainbridge.org/event/our-climate-our-faith-our-future-acting-on-our-climate-action-plan-cap/
LOCATION:WA
CATEGORIES:Climate & Energy Forum,Climate Action Bainbridge
ATTACH;FMTTYPE=image/png:https://www.sustainablebainbridge.org/wp-content/uploads/2021/03/earthHand.png
END:VEVENT
BEGIN:VEVENT
DTSTART;TZID=America/Los_Angeles:20210310T170000
DTEND;TZID=America/Los_Angeles:20210310T180000
DTSTAMP:20260421T032622
CREATED:20210221T163237Z
LAST-MODIFIED:20230320T173524Z
UID:10000138-1615395600-1615399200@www.sustainablebainbridge.org
SUMMARY:Federal Climate Legislation - 2021
DESCRIPTION:Learn about climate action in the 2021 Legislative Session from: \n\nDerek Kilmer\, U.S. Representative\, 6th District\nMaria Cantwell\, U.S. Senator\, Washington State (invited)\n\nVideo Meeting Link: https://bit.ly/mar-10-forum\n\n\n\nBy phone: \n253 215 8782 US (Tacoma)\nMeeting ID: 996 9626 4468 \n\n\n2021 B.I. Climate & Energy Forum Series\n\nOrganized by Climate Action Bainbridge\, Sustainable Bainbridge\, Citizen’s Climate Lobby Bainbridge\, EcoAdapt\, Olympic Climate Action\, Local 2020.
URL:https://www.sustainablebainbridge.org/event/federal-climate-legislation-2021/
LOCATION:WA
CATEGORIES:Climate & Energy Forum,Climate Action Bainbridge
END:VEVENT
BEGIN:VEVENT
DTSTART;TZID=America/Los_Angeles:20210210T190000
DTEND;TZID=America/Los_Angeles:20210210T203000
DTSTAMP:20260421T032622
CREATED:20210118T011026Z
LAST-MODIFIED:20230320T173524Z
UID:10000135-1612983600-1612989000@www.sustainablebainbridge.org
SUMMARY:BI Climate & Energy Forum - 2021 State Climate Legislation
DESCRIPTION:Learn  about climate action in the 2021 Legislative session from: \n\nGovernor Jay Inslee (Invited)\nChristine Rolfes\, State Senator\, 23rd District\nDrew Hansen\, State Representative\, 23rd District\nTarra Simmons\, State Representative\, 23rd District\n\nWednesday February 10th\, 7:00 – 8:30 pm \nVideo Meeting Link: http://bit.ly/feb-10-forum \n2021 B.I. Climate & Energy Forum Series \nOrganized By
URL:https://www.sustainablebainbridge.org/event/2021-state-climate-legislation/
LOCATION:WA
CATEGORIES:Climate & Energy Forum,Climate Action Bainbridge
ATTACH;FMTTYPE=image/jpeg:https://www.sustainablebainbridge.org/wp-content/uploads/2020/10/CEF-Logo-thumb-square.jpg
END:VEVENT
BEGIN:VEVENT
DTSTART;TZID=America/Los_Angeles:20200521T160000
DTEND;TZID=America/Los_Angeles:20200521T180000
DTSTAMP:20260421T032622
CREATED:20200608T212314Z
LAST-MODIFIED:20230320T173620Z
UID:10000115-1590076800-1590084000@www.sustainablebainbridge.org
SUMMARY:Bainbridge Island Climate & Energy Forum 2020
DESCRIPTION:Visit the Forum website
URL:https://www.sustainablebainbridge.org/event/bainbridge-island-climate-energy-forum-2020/
LOCATION:WA
CATEGORIES:Climate & Energy Forum
ATTACH;FMTTYPE=image/jpeg:https://www.sustainablebainbridge.org/wp-content/uploads/2020/02/climate-energy-forum-logo.jpg
END:VEVENT
BEGIN:VEVENT
DTSTART;TZID=America/Los_Angeles:20190921T080000
DTEND;TZID=America/Los_Angeles:20190921T080000
DTSTAMP:20260421T032622
CREATED:20191211T021414Z
LAST-MODIFIED:20230320T173625Z
UID:10000104-1569052800-1569052800@www.sustainablebainbridge.org
SUMMARY:Bainbridge Island Climate & Energy Forum 2019
DESCRIPTION:Presentations and Vehicle Fair\nLearn what electrified transportation can do for you.\nLearn about the issues ✽ Share ideas ✽Solve the problem of Climate Change \nPresentations • 10am • Bainbridge Island Fire Station 21\nMatthew Metz\, Co-Executive Director Coltura\nPanelists: Electric car and bike dealers and owners \nElectric Vehicle Fair • 11am • First Baptist Church\nExplore electric vehicles\, including a Kitsap Transit electric bus! \nYou may download the flyer here. \nVisit the Forum website
URL:https://www.sustainablebainbridge.org/event/bainbridge-island-climate-energy-forum-2019/
LOCATION:WA
CATEGORIES:Climate & Energy Forum
ATTACH;FMTTYPE=image/jpeg:https://www.sustainablebainbridge.org/wp-content/uploads/2020/02/climate-energy-forum-logo.jpg
END:VEVENT
END:VCALENDAR