BEGIN:VCALENDAR
VERSION:2.0
PRODID:-//Sustainable Bainbridge - ECPv6.15.20//NONSGML v1.0//EN
CALSCALE:GREGORIAN
METHOD:PUBLISH
X-ORIGINAL-URL:https://www.sustainablebainbridge.org
X-WR-CALDESC:Events for Sustainable Bainbridge
REFRESH-INTERVAL;VALUE=DURATION:PT1H
X-Robots-Tag:noindex
X-PUBLISHED-TTL:PT1H
BEGIN:VTIMEZONE
TZID:America/Los_Angeles
BEGIN:DAYLIGHT
TZOFFSETFROM:-0800
TZOFFSETTO:-0700
TZNAME:PDT
DTSTART:20250309T100000
END:DAYLIGHT
BEGIN:STANDARD
TZOFFSETFROM:-0700
TZOFFSETTO:-0800
TZNAME:PST
DTSTART:20251102T090000
END:STANDARD
BEGIN:DAYLIGHT
TZOFFSETFROM:-0800
TZOFFSETTO:-0700
TZNAME:PDT
DTSTART:20260308T100000
END:DAYLIGHT
BEGIN:STANDARD
TZOFFSETFROM:-0700
TZOFFSETTO:-0800
TZNAME:PST
DTSTART:20261101T090000
END:STANDARD
BEGIN:DAYLIGHT
TZOFFSETFROM:-0800
TZOFFSETTO:-0700
TZNAME:PDT
DTSTART:20270314T100000
END:DAYLIGHT
BEGIN:STANDARD
TZOFFSETFROM:-0700
TZOFFSETTO:-0800
TZNAME:PST
DTSTART:20271107T090000
END:STANDARD
END:VTIMEZONE
BEGIN:VEVENT
DTSTART;TZID=America/Los_Angeles:20260206T110000
DTEND;TZID=America/Los_Angeles:20260206T120000
DTSTAMP:20260423T061918
CREATED:20260125T204416Z
LAST-MODIFIED:20260125T204416Z
UID:10000730-1770375600-1770379200@www.sustainablebainbridge.org
SUMMARY:SB Partner: Bloedel Winter Tree ID Walk
DESCRIPTION:Sharpen your skills and learn to identify trees even in their winter dormancy with a walk led by Kaslin Daniels\, Director of Horticulture & Design. Tree identification can be difficult when deciduous trees lose their leaves in winter\, but there are still plenty of clues to help you. During this wintry walk\, we’ll explore features such as tree bark\, twigs\, buds\, and silhouettes. \nCost is $15 for members; $37 for nonmembers. Register here.
URL:https://www.sustainablebainbridge.org/event/sb-partner-bloedel-winter-tree-id-walk/
LOCATION:Bloedel Reserve\, 7571 NE Dolphin Drive\, Bainbridge Island\, 98110
CATEGORIES:Weed Warriors
ATTACH;FMTTYPE=image/jpeg:https://www.sustainablebainbridge.org/wp-content/uploads/2026/01/Bloedel-Tree-ID-winter-walk-photo.jpg
END:VEVENT
BEGIN:VEVENT
DTSTART;TZID=America/Los_Angeles:20260215T150000
DTEND;TZID=America/Los_Angeles:20260215T170000
DTSTAMP:20260423T061918
CREATED:20260202T044341Z
LAST-MODIFIED:20260202T044341Z
UID:10000736-1771167600-1771174800@www.sustainablebainbridge.org
SUMMARY:SB Partner: KEC presents "Native Plants and Backyard Ponds"
DESCRIPTION:Native plants and backyard ponds \nThis month\, Kitsap Environmental Coalition will focus on “Stewardship begins at home\,” offering actionable ways to support a healthy ecosystem in your own backyard. Join us on Sunday\, February 15 as speakers Dana Bressette\, Plant Production Manager at Woodbrook Native Plant Nursery\, and Jo Stormer\, owner of Nobody Nursery\, share their extensive knowledge about native plants\, benefits of native plants to local ecosystems\, and how to incorporate them into your home landscape. The presentation will also feature information about backyard ponds\, presented by KEC’s resident frogman\, Tom Doty. \nDetails: \nDate:  Sunday\, February 15 2026 \nTime:  3:00 – 5:00 p.m. \nWhere: The Village Green – 26159 Dulay Rd Ne | Kingston \nFlyer: Download\, print\, and share \nThis is intended to be a family-friendly event – kids crafts and refreshments will be available. We will also continue to gather food donations for Fishline and ShareNet  (most needed items).
URL:https://www.sustainablebainbridge.org/event/sb-partner-kec-presents-native-plants-and-backyard-ponds/
LOCATION:Village Green Community Center\, 26159 Dulay Rd NE\, Kingston\, 98346
CATEGORIES:Watershed Council,Weed Warriors
ATTACH;FMTTYPE=image/png:https://www.sustainablebainbridge.org/wp-content/uploads/2026/02/KEC-Native-Plants-presentation.png
ORGANIZER;CN="Kitsap Environmental Coalition":MAILTO:info@kitsapenvironmentalcoalition
END:VEVENT
BEGIN:VEVENT
DTSTART;TZID=America/Los_Angeles:20260228T140000
DTEND;TZID=America/Los_Angeles:20260228T160000
DTSTAMP:20260423T061918
CREATED:20260127T223402Z
LAST-MODIFIED:20260201T201553Z
UID:10000733-1772287200-1772294400@www.sustainablebainbridge.org
SUMMARY:Weed Warriors Native Plant Restoration Weed Pull
DESCRIPTION:The next weed pull will focus on pulling aggressive ivy near the sheep barn at Bloedel Reserve on Saturday\, February 28\, 2-4pm. Register here. \nMeet in the staff parking lot at 7766 NE W. Port Madison\, on left just past “public trail” sign. Contact Jeannette for more information.
URL:https://www.sustainablebainbridge.org/event/weed-warriors-native-plant-restoration-weed-pull-5/
LOCATION:Bloedel Reserve\, 7571 NE Dolphin Drive\, Bainbridge Island\, 98110
CATEGORIES:Volunteering,Weed Warriors
ATTACH;FMTTYPE=image/png:https://www.sustainablebainbridge.org/wp-content/uploads/2020/03/weed-warriors-logo.png
ORGANIZER;CN="Jeannette Franks":MAILTO:jfranks1@comcast.net
END:VEVENT
END:VCALENDAR