BEGIN:VCALENDAR
VERSION:2.0
PRODID:-//Sustainable Bainbridge - ECPv6.15.20//NONSGML v1.0//EN
CALSCALE:GREGORIAN
METHOD:PUBLISH
X-WR-CALNAME:Sustainable Bainbridge
X-ORIGINAL-URL:https://www.sustainablebainbridge.org
X-WR-CALDESC:Events for Sustainable Bainbridge
REFRESH-INTERVAL;VALUE=DURATION:PT1H
X-Robots-Tag:noindex
X-PUBLISHED-TTL:PT1H
BEGIN:VTIMEZONE
TZID:America/Los_Angeles
BEGIN:DAYLIGHT
TZOFFSETFROM:-0800
TZOFFSETTO:-0700
TZNAME:PDT
DTSTART:20230312T100000
END:DAYLIGHT
BEGIN:STANDARD
TZOFFSETFROM:-0700
TZOFFSETTO:-0800
TZNAME:PST
DTSTART:20231105T090000
END:STANDARD
BEGIN:DAYLIGHT
TZOFFSETFROM:-0800
TZOFFSETTO:-0700
TZNAME:PDT
DTSTART:20240310T100000
END:DAYLIGHT
BEGIN:STANDARD
TZOFFSETFROM:-0700
TZOFFSETTO:-0800
TZNAME:PST
DTSTART:20241103T090000
END:STANDARD
BEGIN:DAYLIGHT
TZOFFSETFROM:-0800
TZOFFSETTO:-0700
TZNAME:PDT
DTSTART:20250309T100000
END:DAYLIGHT
BEGIN:STANDARD
TZOFFSETFROM:-0700
TZOFFSETTO:-0800
TZNAME:PST
DTSTART:20251102T090000
END:STANDARD
END:VTIMEZONE
BEGIN:VEVENT
DTSTART;TZID=America/Los_Angeles:20240428T100000
DTEND;TZID=America/Los_Angeles:20240428T160000
DTSTAMP:20260422T071715
CREATED:20240309T204304Z
LAST-MODIFIED:20240309T204304Z
UID:10000262-1714298400-1714320000@www.sustainablebainbridge.org
SUMMARY:SB Partner - Land Trust's Invasive Weed Disposal
DESCRIPTION:Sundays\, April 21st and 28th from 10 am to 4 pm. Bainbrige Island Land Trust is here to help you get your yard in order with two days of FREE Invasive Weed Disposal! Bring your weeds to the transfer station and the Land Trust will cover the cost of disposal. \nInvasive plant targets are Scotch broom\, English holly\, English ivy\, Himalayan blackberry\, tansy ragwort\, English laurel\, and the noxious weeds on King County’s “Noxious Weed” list. Please do not mix in non-invasive yard waste. For questions about whether or not something will be accepted\, email Andrew Fraser\, Land Trust Stewardship Manager\, or call (206) 842-1216. \nInvasive plant species are one of the leading causes of vegetation biodiversity loss. They spread quickly and can displace native plants\, prevent new native plant growth\, and create monocultures. Lack of diversity among native plants reduces the quality and quantity of fish and wildlife habitat. Remove your invasives now while the ground is soft and make room for native plants come fall and winter when the weather is best for planting!
URL:https://www.sustainablebainbridge.org/event/sb-partner-land-trusts-invasive-weed-disposal/2024-04-28/
CATEGORIES:Cooperative Weed Management Area,Watershed Council,Weed Warriors
ATTACH;FMTTYPE=image/png:https://www.sustainablebainbridge.org/wp-content/uploads/2024/03/Bainbridge-Island-Land-Trust-invasives-poster-2024.png
ORGANIZER;CN="Andrew Fraser":MAILTO:andrew@bi-landtrust.org
END:VEVENT
BEGIN:VEVENT
DTSTART;TZID=America/Los_Angeles:20240421T100000
DTEND;TZID=America/Los_Angeles:20240421T160000
DTSTAMP:20260422T071715
CREATED:20240309T204304Z
LAST-MODIFIED:20240309T204304Z
UID:10000261-1713693600-1713715200@www.sustainablebainbridge.org
SUMMARY:SB Partner - Land Trust's Invasive Weed Disposal
DESCRIPTION:Sundays\, April 21st and 28th from 10 am to 4 pm. Bainbrige Island Land Trust is here to help you get your yard in order with two days of FREE Invasive Weed Disposal! Bring your weeds to the transfer station and the Land Trust will cover the cost of disposal. \nInvasive plant targets are Scotch broom\, English holly\, English ivy\, Himalayan blackberry\, tansy ragwort\, English laurel\, and the noxious weeds on King County’s “Noxious Weed” list. Please do not mix in non-invasive yard waste. For questions about whether or not something will be accepted\, email Andrew Fraser\, Land Trust Stewardship Manager\, or call (206) 842-1216. \nInvasive plant species are one of the leading causes of vegetation biodiversity loss. They spread quickly and can displace native plants\, prevent new native plant growth\, and create monocultures. Lack of diversity among native plants reduces the quality and quantity of fish and wildlife habitat. Remove your invasives now while the ground is soft and make room for native plants come fall and winter when the weather is best for planting!
URL:https://www.sustainablebainbridge.org/event/sb-partner-land-trusts-invasive-weed-disposal/2024-04-21/
CATEGORIES:Cooperative Weed Management Area,Watershed Council,Weed Warriors
ATTACH;FMTTYPE=image/png:https://www.sustainablebainbridge.org/wp-content/uploads/2024/03/Bainbridge-Island-Land-Trust-invasives-poster-2024.png
ORGANIZER;CN="Andrew Fraser":MAILTO:andrew@bi-landtrust.org
END:VEVENT
END:VCALENDAR