BEGIN:VCALENDAR
VERSION:2.0
PRODID:-//Sustainable Bainbridge - ECPv6.15.20//NONSGML v1.0//EN
CALSCALE:GREGORIAN
METHOD:PUBLISH
X-WR-CALNAME:Sustainable Bainbridge
X-ORIGINAL-URL:https://www.sustainablebainbridge.org
X-WR-CALDESC:Events for Sustainable Bainbridge
REFRESH-INTERVAL;VALUE=DURATION:PT1H
X-Robots-Tag:noindex
X-PUBLISHED-TTL:PT1H
BEGIN:VTIMEZONE
TZID:America/Los_Angeles
BEGIN:DAYLIGHT
TZOFFSETFROM:-0800
TZOFFSETTO:-0700
TZNAME:PDT
DTSTART:20240310T100000
END:DAYLIGHT
BEGIN:STANDARD
TZOFFSETFROM:-0700
TZOFFSETTO:-0800
TZNAME:PST
DTSTART:20241103T090000
END:STANDARD
BEGIN:DAYLIGHT
TZOFFSETFROM:-0800
TZOFFSETTO:-0700
TZNAME:PDT
DTSTART:20250309T100000
END:DAYLIGHT
BEGIN:STANDARD
TZOFFSETFROM:-0700
TZOFFSETTO:-0800
TZNAME:PST
DTSTART:20251102T090000
END:STANDARD
BEGIN:DAYLIGHT
TZOFFSETFROM:-0800
TZOFFSETTO:-0700
TZNAME:PDT
DTSTART:20260308T100000
END:DAYLIGHT
BEGIN:STANDARD
TZOFFSETFROM:-0700
TZOFFSETTO:-0800
TZNAME:PST
DTSTART:20261101T090000
END:STANDARD
BEGIN:DAYLIGHT
TZOFFSETFROM:-0800
TZOFFSETTO:-0700
TZNAME:PDT
DTSTART:20270314T100000
END:DAYLIGHT
BEGIN:STANDARD
TZOFFSETFROM:-0700
TZOFFSETTO:-0800
TZNAME:PST
DTSTART:20271107T090000
END:STANDARD
END:VTIMEZONE
BEGIN:VEVENT
DTSTART;TZID=America/Los_Angeles:20260315T150000
DTEND;TZID=America/Los_Angeles:20260315T170000
DTSTAMP:20260425T032842
CREATED:20260302T051417Z
LAST-MODIFIED:20260302T051417Z
UID:10000756-1773586800-1773594000@www.sustainablebainbridge.org
SUMMARY:SB Partner: KEC Presents Stewardship Begins at Home
DESCRIPTION:On March 15\, a full agenda features a variety of speakers with a focus on sustainability\, including the following topics: \n\nJessee Adams and Grace Personeus from the Kitsap Conservation District  will share how they work with private landowners to empower them to conserve natural resources by providing technical assistance\, grants\, and educational opportunities. Find out about program offerings with a special focus on native plants\, and the Backyard Habitat and Rain Garden Programs.\nCaitlin Newman\, from the Kitsap Public Works Solid Waste Department will explore what happens to your waste after it leaves your home\, how Kitsap County and Washington State are working to reduce waste\, and practical tips to reduce waste in your daily life.\nLori Cloutier from Poulsbo Rotary will share about the Rotary’s efforts to reduce reliance on disposable cups as part of their Trash Talk Taskforce efforts.\nArtist Steve Portteus will speak to his multi-media creations that depict the landscapes\, seascapes\, and details of the natural beauty of the Pacific Northwest.
URL:https://www.sustainablebainbridge.org/event/sb-partner-kec-presents-stewardship-begins-at-home/
LOCATION:Village Green Community Center\, 26159 Dulay Rd NE\, Kingston\, 98346
CATEGORIES:Zero Waste
ATTACH;FMTTYPE=image/png:https://www.sustainablebainbridge.org/wp-content/uploads/2026/03/KEC-presents-3-15-26.png
END:VEVENT
BEGIN:VEVENT
DTSTART;TZID=America/Los_Angeles:20251116T150000
DTEND;TZID=America/Los_Angeles:20251116T170000
DTSTAMP:20260425T032842
CREATED:20251103T043845Z
LAST-MODIFIED:20251103T044717Z
UID:10000712-1763305200-1763312400@www.sustainablebainbridge.org
SUMMARY:SB Partner: KEC Program-Forest Policy
DESCRIPTION:From the National to the Neighborhood:\nFederal Forest Policy & Ecological Forestry in Kitsap\nDATE:\nSunday\, November\, 3-5p \nLOCATION:\nVillage Green Community Center\, 26159 Dulay Rd NE\, Kingston \nSNACKS: Share your favorites (cookies\, desserts)\nFOOD DONATION: For Fishline and ShareNet \nSPEAKERS:\nAlex Budd\, Pacific Northwest Forest Climate Alliance Organizer\, with regional and federal focus\nSeth Zuckerman\, co-Author of  A Forest of Your Own: The PNW Handbook of Ecological Forestry \nAlex will speak on the changing landscape of federal forest policy:\nAn overview of federal forest management and the forest defense movement–from the creation of the National Forest Management Act to the timber wars\, the NW Forest Plan\, the Salvage Rider–as well as covering many of the current proposed policy changes by the Trump Administration–from the Roadless Rule rescission to the NWFP revision and Trump’s timber focused Executive Orders. \nSeth Zuckerman will bring us down to earth as an ecological forestry practitioner and writer with a focus on Pacific Northwest forests\, including within the local Kitsap/West Sound context. He will speak about how to manage trees for sustainable wood harvest as well as recreation\, inspiration\, and a range of cultural connections. \nQ&A to follow. \nGo here for more details.
URL:https://www.sustainablebainbridge.org/event/sb-partner-kec-program-forest-policy/
LOCATION:Village Green Community Center\, 26159 Dulay Rd NE\, Kingston\, 98346
CATEGORIES:Climate Action Bainbridge,Watershed Council,Weed Warriors
ATTACH;FMTTYPE=image/png:https://www.sustainablebainbridge.org/wp-content/uploads/2025/11/KEC-Nov-2025.png
END:VEVENT
BEGIN:VEVENT
DTSTART;TZID=America/Los_Angeles:20251019T150000
DTEND;TZID=America/Los_Angeles:20251019T163000
DTSTAMP:20260425T032842
CREATED:20251006T062451Z
LAST-MODIFIED:20251006T062451Z
UID:10000699-1760886000-1760891400@www.sustainablebainbridge.org
SUMMARY:SB Partner: KEC presents "The Future of Kitsap's Forests"
DESCRIPTION:The Kitsap Environmental Coalition presents “The Future of Kitsap’s Forests” on Sunday\, October 19\, 3-4:30pm\, at the Village Green Community Center\, 26159 Dulay Rd NE\, Kingston. \nEveryone is welcome! Bring your favorites (cookies\, desserts) to share. \nSpeakers are Frank Stricklin\, founder and past president of Friends of Newberry Hill Heritage Park;  Sue DeArman\, KEC member and naturalist photographer; and Connie Reckord\, program director of preservation\, Friends of Miller Bay. \nThe main presenter\, Frank Stricklin\, is a WSU Stream Steward\, native plant advisor\, forest steward\, and lifelong learner. He begins our series on ecological forest restoration. But first\, a little background on the history of our wooded landscape… \nIn the 1850s\, the forests of the Kitsap Peninsula\, and indeed the whole Pacific Northwest\, began a dramatic transformation. In just 150 years\, the original old-growth forests\, integral to the indigenous tribes of the region for centuries\, had been replaced by managed monoculture plantations of densely planted Douglas Fir\, grown as a commercial crop on a tight rotation. In the face of current environmental challenges\, we are now embarking on a new transformation aimed at restoring healthier\, more natural forest conditions\, with increased diversification to promote sustainability and enhance wildlife habitats. Learn more as we explore the future of Kitsap’s forests.
URL:https://www.sustainablebainbridge.org/event/sb-partner-kec-presents-the-future-of-kitsaps-forests/
LOCATION:Village Green Community Center\, 26159 Dulay Rd NE\, Kingston\, 98346
ATTACH;FMTTYPE=image/jpeg:https://www.sustainablebainbridge.org/wp-content/uploads/2025/10/KEC-Future-of-Forests-poster.jpg
END:VEVENT
BEGIN:VEVENT
DTSTART;TZID=America/Los_Angeles:20250930T180000
DTEND;TZID=America/Los_Angeles:20250930T190000
DTSTAMP:20260425T032842
CREATED:20250922T203615Z
LAST-MODIFIED:20250922T204127Z
UID:10000690-1759255200-1759258800@www.sustainablebainbridge.org
SUMMARY:SB Partner: KEC presents "Helping Insect Pollinators over the Fall and Winter"
DESCRIPTION:Learn about pollinators and their needs\, as the flowers disappear in the fall. Hear how to help native pollinators succeed throughout the year. \nThis presentation is brought to you by Kitsap Environmental Coalition\,  a non-profit organization active throughout Kitsap County. They work to Keep Kitsap Green through environmental education and advocacy.
URL:https://www.sustainablebainbridge.org/event/sb-partner-kec-presents-helping-insect-pollinators-over-the-fall-and-winter/
LOCATION:Bainbridge Island Fire Dept HQ\, 8895 Madison Avenue NE\, 98110Davud
CATEGORIES:Climate Action Bainbridge,Weed Warriors
ATTACH;FMTTYPE=application/pdf:https://www.sustainablebainbridge.org/wp-content/uploads/2025/09/HelpingPollinatorsOverWinterFlyer_9.30.25.pdf
END:VEVENT
END:VCALENDAR