BEGIN:VCALENDAR
VERSION:2.0
PRODID:-//Sustainable Bainbridge - ECPv6.15.20//NONSGML v1.0//EN
CALSCALE:GREGORIAN
METHOD:PUBLISH
X-ORIGINAL-URL:https://www.sustainablebainbridge.org
X-WR-CALDESC:Events for Sustainable Bainbridge
REFRESH-INTERVAL;VALUE=DURATION:PT1H
X-Robots-Tag:noindex
X-PUBLISHED-TTL:PT1H
BEGIN:VTIMEZONE
TZID:America/Los_Angeles
BEGIN:DAYLIGHT
TZOFFSETFROM:-0800
TZOFFSETTO:-0700
TZNAME:PDT
DTSTART:20190310T100000
END:DAYLIGHT
BEGIN:STANDARD
TZOFFSETFROM:-0700
TZOFFSETTO:-0800
TZNAME:PST
DTSTART:20191103T090000
END:STANDARD
BEGIN:DAYLIGHT
TZOFFSETFROM:-0800
TZOFFSETTO:-0700
TZNAME:PDT
DTSTART:20200308T100000
END:DAYLIGHT
BEGIN:STANDARD
TZOFFSETFROM:-0700
TZOFFSETTO:-0800
TZNAME:PST
DTSTART:20201101T090000
END:STANDARD
BEGIN:DAYLIGHT
TZOFFSETFROM:-0800
TZOFFSETTO:-0700
TZNAME:PDT
DTSTART:20210314T100000
END:DAYLIGHT
BEGIN:STANDARD
TZOFFSETFROM:-0700
TZOFFSETTO:-0800
TZNAME:PST
DTSTART:20211107T090000
END:STANDARD
BEGIN:DAYLIGHT
TZOFFSETFROM:-0800
TZOFFSETTO:-0700
TZNAME:PDT
DTSTART:20220313T100000
END:DAYLIGHT
BEGIN:STANDARD
TZOFFSETFROM:-0700
TZOFFSETTO:-0800
TZNAME:PST
DTSTART:20221106T090000
END:STANDARD
BEGIN:DAYLIGHT
TZOFFSETFROM:-0800
TZOFFSETTO:-0700
TZNAME:PDT
DTSTART:20230312T100000
END:DAYLIGHT
BEGIN:STANDARD
TZOFFSETFROM:-0700
TZOFFSETTO:-0800
TZNAME:PST
DTSTART:20231105T090000
END:STANDARD
BEGIN:DAYLIGHT
TZOFFSETFROM:-0800
TZOFFSETTO:-0700
TZNAME:PDT
DTSTART:20240310T100000
END:DAYLIGHT
BEGIN:STANDARD
TZOFFSETFROM:-0700
TZOFFSETTO:-0800
TZNAME:PST
DTSTART:20241103T090000
END:STANDARD
BEGIN:DAYLIGHT
TZOFFSETFROM:-0800
TZOFFSETTO:-0700
TZNAME:PDT
DTSTART:20250309T100000
END:DAYLIGHT
BEGIN:STANDARD
TZOFFSETFROM:-0700
TZOFFSETTO:-0800
TZNAME:PST
DTSTART:20251102T090000
END:STANDARD
END:VTIMEZONE
BEGIN:VEVENT
DTSTART;TZID=America/Los_Angeles:20231202T000000
DTEND;TZID=America/Los_Angeles:20240211T220000
DTSTAMP:20260420T013542
CREATED:20231202T174814Z
LAST-MODIFIED:20231202T175703Z
UID:10000231-1701475200-1707688800@www.sustainablebainbridge.org
SUMMARY:ReFashion Show Call for Artists
DESCRIPTION:Calling all artists for the eighth annual ReFashion Show. Deadline sketches are due on February 11 (except for Mystery Box). Get all the details and application here. \nThe show takes place on May 19\, 2024.
URL:https://www.sustainablebainbridge.org/event/refashion-show-call-for-artists/
CATEGORIES:ReFashion Bainbridge,Zero Waste
ATTACH;FMTTYPE=image/png:https://www.sustainablebainbridge.org/wp-content/uploads/2023/12/Call-for-Artists-2024-screenshot.png
ORGANIZER;CN="Naomi Spinak":MAILTO:refashion@sustainablebainbridge.org
END:VEVENT
BEGIN:VEVENT
DTSTART;TZID=America/Los_Angeles:20231011T193000
DTEND;TZID=America/Los_Angeles:20231011T203000
DTSTAMP:20260420T013542
CREATED:20230809T221333Z
LAST-MODIFIED:20230821T200727Z
UID:10000219-1697052600-1697056200@www.sustainablebainbridge.org
SUMMARY:Author Visit - J.B. MacKinnon
DESCRIPTION:Join us for a one-hour discussion between J. B. MacKinnon\, journalist and author of The Day the World Stops Shopping: How Ending Consumerism Saves the Environment and Ourselves\, as well as The 100-mile Diet\, and Rebecca Rockefeller\, co-author of Buy Nothing\, Get Everything\, and one of the founders of the world-wide Buy Nothing Project. After the conversation\, there will be a question and answer period\, and an opportunity for book signing. Tickets are here.\n\n The Day the World Stops Shopping envisions a time when we reduce our consumerism by 25%. MacKinnon tracks this possibility by contemplating what it would mean in our lives and the lives of others\, how it would affect us\, and how it could save the planet. His in-depth and wide-ranging research encompasses consumption habits from blue jeans to electricity. He shows how short a time it took us to get to where we are now\, and how we could dial it back to make a huge impact on climate change.\n\n\n\n\n\n\n\n\n\n\n\n\n\n\n\n\n\n\n\n\n\n\n\n\n\nJ. B. MacKinnon is an award-winning journalist whose work has appeared in The New Yorker\, National Geographic\, and The Atlantic\, as well as The Best American Science and Nature Writing anthologies. He is also the author of four books of nonfiction\, including the bestselling Plenty (with Alisa Smith)\, widely recognized as a catalyst of the local food movement.  He lives in Vancouver\, Canada.\n\nThis event is made possible by a City of Bainbridge Island Cultural Arts Grant.
URL:https://www.sustainablebainbridge.org/event/author-visit-j-b-mackinnon/
LOCATION:Bainbridge High School\, 9330 NE High School Road\, Bainbridge Island
CATEGORIES:Climate Action Bainbridge,Zero Waste
ATTACH;FMTTYPE=image/png:https://www.sustainablebainbridge.org/wp-content/uploads/2023/08/JB-MacKinnon-poster_Aug-15.png
ORGANIZER;CN="Naomi Spinak":MAILTO:refashion@sustainablebainbridge.org
END:VEVENT
BEGIN:VEVENT
DTSTART;TZID=America/Los_Angeles:20230521T130000
DTEND;TZID=America/Los_Angeles:20230521T160000
DTSTAMP:20260420T013542
CREATED:20230213T065556Z
LAST-MODIFIED:20230507T191551Z
UID:10000198-1684674000-1684684800@www.sustainablebainbridge.org
SUMMARY:ReFashion Show: Fashion in the Forest
DESCRIPTION:Come stroll the beautiful trails at IslandWood to view apparel creatively repurposed from various materials at the seventh annual ReFashion Show. Designers have entered their juried outfits in one of three categories: \n\nUpcycled\nMystery Box\nThemed: Connections\n\nThe trails display will be open from 1-3pm. Cost is $15 adults\, $5 students.\nA runway show with awards follows at 3:15. Cost is $10 adults\, $5 students. \nThere will also be an accessories exchange in the Welcome Center. Bring gently used purses\, bags\, scarves\, and jewelry. You are welcome to bring and not take\, or vice versa\, or both. \nTicket registration will open in mid-late April.
URL:https://www.sustainablebainbridge.org/event/refashion-show-fashion-in-the-forest/
LOCATION:IslandWood\, 4450 Blakely Ave NE\, Bainbridge Island\, WA\, 98110\, United States
CATEGORIES:ReFashion Bainbridge,Zero Waste
ATTACH;FMTTYPE=image/png:https://www.sustainablebainbridge.org/wp-content/uploads/2023/02/ReFashion-Bainbridge-Show-POSTER-2023.png
ORGANIZER;CN="Naomi Spinak":MAILTO:refashion@sustainablebainbridge.org
END:VEVENT
BEGIN:VEVENT
DTSTART;TZID=America/Los_Angeles:20230507T130000
DTEND;TZID=America/Los_Angeles:20230507T150000
DTSTAMP:20260420T013542
CREATED:20230419T174922Z
LAST-MODIFIED:20230419T174922Z
UID:10000207-1683464400-1683471600@www.sustainablebainbridge.org
SUMMARY:Mend with a Friend
DESCRIPTION:​Sunday\, May 7\, 1-3pm\n​Esther’s Fabrics \nCome ready to stitch\, fix\, darn or embellish a cherished garment or bag. Mary Jo Davis will be on hand to offer guidance while you make repairs. ​Register here.
URL:https://www.sustainablebainbridge.org/event/mend-with-a-friend-3/
ATTACH;FMTTYPE=image/jpeg:https://www.sustainablebainbridge.org/wp-content/uploads/2022/10/Mending-photo2.jpg
ORGANIZER;CN="Naomi Spinak":MAILTO:refashion@sustainablebainbridge.org
END:VEVENT
BEGIN:VEVENT
DTSTART;TZID=America/Los_Angeles:20230319T130000
DTEND;TZID=America/Los_Angeles:20230319T160000
DTSTAMP:20260420T013542
CREATED:20230129T213250Z
LAST-MODIFIED:20230320T173506Z
UID:10000196-1679230800-1679241600@www.sustainablebainbridge.org
SUMMARY:Clothing Swap
DESCRIPTION:Clothing Swap\n​Sunday\, March 19\, 1-4pm\nDrop-off day is Saturday\, March 18\, 11am-2pm\nFilipino-American Community Hall\, 7566 High School Rd\nBring any gender clothing\, kid and adult sizes.\nAll items must be clean\, quality clothes that are in good shape. Please only bring items that you would gift to your best friend. \nWhat types of clothes? \n\nAthletic Wear\nBusiness wear                                                               \nCasual wear\nFormal wear\nOuterwear                                                                                                                               \n\nDo not bring… \n\nAccessories\nFootwear\nHats\nJewelry\nSleepwear\nSocks\nUndergarments\n\nEmail Naomi with questions.                                    \n                          \n                                        
URL:https://www.sustainablebainbridge.org/event/clothing-swap/
LOCATION:Filipino-American Community Hall\, 7566 High School Rd NE\, Bainbridge Island
CATEGORIES:ReFashion Bainbridge,Zero Waste
ATTACH;FMTTYPE=image/png:https://www.sustainablebainbridge.org/wp-content/uploads/2023/01/Clothing-swap-poster_6_green-border.png
ORGANIZER;CN="Naomi Spinak":MAILTO:refashion@sustainablebainbridge.org
END:VEVENT
BEGIN:VEVENT
DTSTART;TZID=America/Los_Angeles:20221204T130000
DTEND;TZID=America/Los_Angeles:20221204T150000
DTSTAMP:20260420T013542
CREATED:20221005T214533Z
LAST-MODIFIED:20230320T173508Z
UID:10000103-1670158800-1670166000@www.sustainablebainbridge.org
SUMMARY:Mend with a Friend
DESCRIPTION:Stitch\, fix\, darn or embellish a cherished garment or bag. Naomi Spinak\, chair of the popular ReFashion Show\, will be on hand to offer guidance while you make repairs. There is no cost. \nScroll down here to RSVP.
URL:https://www.sustainablebainbridge.org/event/mend-with-a-friend-2/
LOCATION:Scrappy Art Lab\, 123 Bjune Dr SE Unit 109\, Bainbridge Island
CATEGORIES:Trashion Show,Zero Waste
ATTACH;FMTTYPE=image/jpeg:https://www.sustainablebainbridge.org/wp-content/uploads/2022/10/Mending-photo.jpg
ORGANIZER;CN="Naomi Spinak":MAILTO:refashion@sustainablebainbridge.org
END:VEVENT
BEGIN:VEVENT
DTSTART;TZID=America/Los_Angeles:20221106T130000
DTEND;TZID=America/Los_Angeles:20221106T150000
DTSTAMP:20260420T013542
CREATED:20221005T214016Z
LAST-MODIFIED:20230320T173509Z
UID:10000101-1667739600-1667746800@www.sustainablebainbridge.org
SUMMARY:Mend with a Friend
DESCRIPTION:Stitch\, fix\, darn or embellish a cherished garment or bag. Naomi Spinak\, chair of the popular ReFashion Show\, will be on hand to offer guidance while you make repairs. There is no cost. \nScroll down here to RSVP.
URL:https://www.sustainablebainbridge.org/event/mend-with-a-friend/
LOCATION:Scrappy Art Lab\, 123 Bjune Dr SE Unit 109\, Bainbridge Island
CATEGORIES:Trashion Show,Zero Waste
ATTACH;FMTTYPE=image/jpeg:https://www.sustainablebainbridge.org/wp-content/uploads/2022/10/Mending-photo.jpg
ORGANIZER;CN="Naomi Spinak":MAILTO:refashion@sustainablebainbridge.org
END:VEVENT
BEGIN:VEVENT
DTSTART;TZID=America/Los_Angeles:20220704T130000
DTEND;TZID=America/Los_Angeles:20220704T150000
DTSTAMP:20260420T013542
CREATED:20220604T052034Z
LAST-MODIFIED:20230320T173511Z
UID:10000099-1656939600-1656946800@www.sustainablebainbridge.org
SUMMARY:ReFashion Bainbridge and Their Dogs March in 4th of July Parade
DESCRIPTION:Join Our Parade! ReFashion Bainbridge will be marching in the Annual 4th of July parade in Winslow this year and we want YOU to create a Trashion/ReFashion Outfit for your pet and/or yourself and come march with us! Send us a message here to participate! All ages! All well behaved pets (on leashes)!
URL:https://www.sustainablebainbridge.org/event/refashion-bainbridge-and-their-dogs-march-in-4th-of-july-parade/
LOCATION:Downtown Winslow
CATEGORIES:Trashion Show,Zero Waste
ATTACH;FMTTYPE=image/jpeg:https://www.sustainablebainbridge.org/wp-content/uploads/2022/06/Dog-parade-photo.jpg
ORGANIZER;CN="Naomi Spinak":MAILTO:refashion@sustainablebainbridge.org
END:VEVENT
BEGIN:VEVENT
DTSTART;TZID=America/Los_Angeles:20220612T130000
DTEND;TZID=America/Los_Angeles:20220612T160000
DTSTAMP:20260420T013542
CREATED:20220303T232509Z
LAST-MODIFIED:20230320T173512Z
UID:10000168-1655038800-1655049600@www.sustainablebainbridge.org
SUMMARY:ReFashion (Trashion) Show: Fashion in the Forest
DESCRIPTION:Join us for a newly re-envisioned Bainbridge Island ReFashion Show! We have brought our beloved ReFashion Runway outdoors this year so you can meet the designers and models in a more natural habitat.  Arrive any time between 1-4pm. During your rambles on the trails\, you will encounter local models of all ages and talented designers presenting creative garb that spans functional to funky. As a bonus\, all of IslandWood’s trail systems will be open at this time for your self-guided exploration. \nTickets are $15 for adults and $5 for students. \nOther optional activities: \n\nA clothing swap – bring one item in good condition\nA scavenger hunt\nA clever postcard campaign to switch from t-shirts as prizes\nAudience Award voting
URL:https://www.sustainablebainbridge.org/event/refashion-trashion-show-fashion-in-the-forest/
LOCATION:IslandWood\, 4450 Blakely Ave NE\, Bainbridge Island\, WA\, 98110\, United States
CATEGORIES:Trashion Show,Zero Waste
ATTACH;FMTTYPE=image/jpeg:https://www.sustainablebainbridge.org/wp-content/uploads/2022/03/REFASHION-2022-POSTER-1.jpg
ORGANIZER;CN="Naomi Spinak":MAILTO:refashion@sustainablebainbridge.org
END:VEVENT
BEGIN:VEVENT
DTSTART;TZID=America/Los_Angeles:20220401T000000
DTEND;TZID=America/Los_Angeles:20220501T233000
DTSTAMP:20260420T013542
CREATED:20220322T025032Z
LAST-MODIFIED:20230320T173514Z
UID:10000086-1648771200-1651447800@www.sustainablebainbridge.org
SUMMARY:Call to Artists: ReFashion Trashion Show
DESCRIPTION:Calling all textile artists to submit up to three designs in total by May 1 for the ReFashion Trashion Show on June 12\, 2022. Submission categories are Upcycled Ready-to-wear\, Stage-ready Theatrical Wear\, and Mystery Box. Find out details and application information here.
URL:https://www.sustainablebainbridge.org/event/call-to-artists-refashion-trashion-show/
CATEGORIES:Trashion Show,Zero Waste
ATTACH;FMTTYPE=image/jpeg:https://www.sustainablebainbridge.org/wp-content/uploads/2022/03/Call-to-artists-2022_large-file-size.jpg
ORGANIZER;CN="Naomi Spinak":MAILTO:refashion@sustainablebainbridge.org
END:VEVENT
BEGIN:VEVENT
DTSTART;TZID=America/Los_Angeles:20220327T123000
DTEND;TZID=America/Los_Angeles:20220327T170000
DTSTAMP:20260420T013542
CREATED:20220225T004718Z
LAST-MODIFIED:20230320T173514Z
UID:10000166-1648384200-1648400400@www.sustainablebainbridge.org
SUMMARY:Bainbridge Environmental Conference
DESCRIPTION:Purchase tickets here.\nThe 2022 Bainbridge Island Environmental Conference at IslandWood presents “We All Get Dressed: Garb\, Gear and Growing a Sustainable Clothing Economy” on Sunday March 27\, from 12:30-5pm.  The conference will feature keynote speakers focused on consumer psychology\, our local fibershed\, and closing the loop on textile waste through innovative recycling technology. \nFollowing the keynotes\, there will be two sets of breakout sessions that will cover a variety of topics in both discussion and hands-on learning formats\, including a clothing audit\, a local fibershed panel\, toxic chemicals in textiles\, the secondhand clothing journey\, clothing labels\, WA textile legislation\, and repairs. There will also be exhibits in the Great Hall for you to get connected\, learn more & take action! \nParticipants will be invited to bring a piece of clothing to swap and to share their ideas of what each of us can do to contribute to a sustainable fashion economy.
URL:https://www.sustainablebainbridge.org/event/bainbridge-environmental-conference/
LOCATION:IslandWood\, 4450 Blakely Ave NE\, Bainbridge Island\, WA\, 98110\, United States
CATEGORIES:Zero Waste
ATTACH;FMTTYPE=image/jpeg:https://www.sustainablebainbridge.org/wp-content/uploads/2022/02/Enviro-Conf-Poster-2022.jpeg
ORGANIZER;CN="Naomi Spinak":MAILTO:refashion@sustainablebainbridge.org
END:VEVENT
BEGIN:VEVENT
DTSTART;TZID=America/Los_Angeles:20210301T202400
DTEND;TZID=America/Los_Angeles:20210402T000000
DTSTAMP:20260420T013542
CREATED:20210301T202448Z
LAST-MODIFIED:20230320T173524Z
UID:10000139-1614630240-1617321600@www.sustainablebainbridge.org
SUMMARY:Trashion Show Call for Artists
DESCRIPTION:Calling all designers for the July 25\, 2021 Trashion Show. The event will be outside at Hilltop. Attendees will have timed-ticket entry. Each model will have a tent and be stationed there while guests walk past. \nPrize categories are for Upcycled ready-to-wear and Trash2Treasure ready-to-wear. The deadline for sketch proposals is April 2. Find all the details at bitrashion.org
URL:https://www.sustainablebainbridge.org/event/trashion-show-call-for-artists/
CATEGORIES:Trashion Show,Zero Waste
ATTACH;FMTTYPE=image/jpeg:https://www.sustainablebainbridge.org/wp-content/uploads/2021/03/Call_to_Artists_2021.jpg
ORGANIZER;CN="Naomi Spinak":MAILTO:refashion@sustainablebainbridge.org
END:VEVENT
BEGIN:VEVENT
DTSTART;TZID=America/Los_Angeles:20200807T170000
DTEND;TZID=America/Los_Angeles:20200830T170000
DTSTAMP:20260420T013542
CREATED:20200703T054236Z
LAST-MODIFIED:20230320T173618Z
UID:10000116-1596819600-1598806800@www.sustainablebainbridge.org
SUMMARY:Trashion Fashion
DESCRIPTION:Through August 30\, come to Bainbridge Arts and Crafts to see Trashion Fashion!  On display are upcycled garments created from old clothing\, apparel crafted from recyclable material\, and even a complete outfit fabricated from the contents of a Mystery Box.
URL:https://www.sustainablebainbridge.org/event/trashion-fashion/
LOCATION:Bainbridge Arts and Crafts
CATEGORIES:Trashion Show,Zero Waste
ATTACH;FMTTYPE=image/jpeg:https://www.sustainablebainbridge.org/wp-content/uploads/2020/08/2020-BAC-display_2.jpg
ORGANIZER;CN="Naomi Spinak":MAILTO:refashion@sustainablebainbridge.org
END:VEVENT
END:VCALENDAR