BEGIN:VCALENDAR
VERSION:2.0
PRODID:-//Sustainable Bainbridge - ECPv6.15.20//NONSGML v1.0//EN
CALSCALE:GREGORIAN
METHOD:PUBLISH
X-WR-CALNAME:Sustainable Bainbridge
X-ORIGINAL-URL:https://www.sustainablebainbridge.org
X-WR-CALDESC:Events for Sustainable Bainbridge
REFRESH-INTERVAL;VALUE=DURATION:PT1H
X-Robots-Tag:noindex
X-PUBLISHED-TTL:PT1H
BEGIN:VTIMEZONE
TZID:America/Los_Angeles
BEGIN:DAYLIGHT
TZOFFSETFROM:-0800
TZOFFSETTO:-0700
TZNAME:PDT
DTSTART:20190310T100000
END:DAYLIGHT
BEGIN:STANDARD
TZOFFSETFROM:-0700
TZOFFSETTO:-0800
TZNAME:PST
DTSTART:20191103T090000
END:STANDARD
BEGIN:DAYLIGHT
TZOFFSETFROM:-0800
TZOFFSETTO:-0700
TZNAME:PDT
DTSTART:20200308T100000
END:DAYLIGHT
BEGIN:STANDARD
TZOFFSETFROM:-0700
TZOFFSETTO:-0800
TZNAME:PST
DTSTART:20201101T090000
END:STANDARD
BEGIN:DAYLIGHT
TZOFFSETFROM:-0800
TZOFFSETTO:-0700
TZNAME:PDT
DTSTART:20210314T100000
END:DAYLIGHT
BEGIN:STANDARD
TZOFFSETFROM:-0700
TZOFFSETTO:-0800
TZNAME:PST
DTSTART:20211107T090000
END:STANDARD
BEGIN:DAYLIGHT
TZOFFSETFROM:-0800
TZOFFSETTO:-0700
TZNAME:PDT
DTSTART:20220313T100000
END:DAYLIGHT
BEGIN:STANDARD
TZOFFSETFROM:-0700
TZOFFSETTO:-0800
TZNAME:PST
DTSTART:20221106T090000
END:STANDARD
BEGIN:DAYLIGHT
TZOFFSETFROM:-0800
TZOFFSETTO:-0700
TZNAME:PDT
DTSTART:20230312T100000
END:DAYLIGHT
BEGIN:STANDARD
TZOFFSETFROM:-0700
TZOFFSETTO:-0800
TZNAME:PST
DTSTART:20231105T090000
END:STANDARD
BEGIN:DAYLIGHT
TZOFFSETFROM:-0800
TZOFFSETTO:-0700
TZNAME:PDT
DTSTART:20240310T100000
END:DAYLIGHT
BEGIN:STANDARD
TZOFFSETFROM:-0700
TZOFFSETTO:-0800
TZNAME:PST
DTSTART:20241103T090000
END:STANDARD
BEGIN:DAYLIGHT
TZOFFSETFROM:-0800
TZOFFSETTO:-0700
TZNAME:PDT
DTSTART:20250309T100000
END:DAYLIGHT
BEGIN:STANDARD
TZOFFSETFROM:-0700
TZOFFSETTO:-0800
TZNAME:PST
DTSTART:20251102T090000
END:STANDARD
BEGIN:DAYLIGHT
TZOFFSETFROM:-0800
TZOFFSETTO:-0700
TZNAME:PDT
DTSTART:20260308T100000
END:DAYLIGHT
BEGIN:STANDARD
TZOFFSETFROM:-0700
TZOFFSETTO:-0800
TZNAME:PST
DTSTART:20261101T090000
END:STANDARD
BEGIN:DAYLIGHT
TZOFFSETFROM:-0800
TZOFFSETTO:-0700
TZNAME:PDT
DTSTART:20270314T100000
END:DAYLIGHT
BEGIN:STANDARD
TZOFFSETFROM:-0700
TZOFFSETTO:-0800
TZNAME:PST
DTSTART:20271107T090000
END:STANDARD
END:VTIMEZONE
BEGIN:VEVENT
DTSTART;TZID=America/Los_Angeles:20260120T180000
DTEND;TZID=America/Los_Angeles:20260120T190000
DTSTAMP:20260421T110807
CREATED:20260115T193831Z
LAST-MODIFIED:20260121T175138Z
UID:10000723-1768932000-1768935600@www.sustainablebainbridge.org
SUMMARY:SB Partner: Bainbridge Prepares: Emergency Preparedness - Water\, Safety\, and Hygiene
DESCRIPTION:Preparedness is the cornerstone of community resilience. Are you ready? \nDisaster can come in many forms\, and preparing yourself\, your family\, and your community is one of the most important things you can do. Bainbridge Prepares\, the Bainbridge Island Fire Department\, and the City of Bainbridge Island collaborate to bring us a monthly series that will cover a variety of topics. \nJanuary focuses on water preparedness. Go here for basic ways to prepare. \nFor the January program\, please register here for a free ticket.
URL:https://www.sustainablebainbridge.org/event/sb-partner-bainbridge-prepares-emergency-preparedness-water-safety-and-hygiene/
LOCATION:Bainbridge Public Library\, 1270 Madison Avenue\, Bainbridge Island\, WA\, 98110\, United States
ATTACH;FMTTYPE=image/png:https://www.sustainablebainbridge.org/wp-content/uploads/2026/01/Bainbridge-Prepares-Prepare-in-a-Year-symbol.png
END:VEVENT
BEGIN:VEVENT
DTSTART;TZID=America/Los_Angeles:20250921T110000
DTEND;TZID=America/Los_Angeles:20250921T123000
DTSTAMP:20260421T110807
CREATED:20250828T233620Z
LAST-MODIFIED:20250828T233729Z
UID:10000681-1758452400-1758457800@www.sustainablebainbridge.org
SUMMARY:SB Partner: BPL - Sun Day
DESCRIPTION:Join us for Sun Day! Celebrate with us as we honor the library’s plans to install a solar system. Hear from Jeremy Smithson\, founder of Puget Sound Solar\, who will review the history of solar in the U.S. and where the industry is headed. Learn about solar projects around the Island and by the Suquamish tribe. \nThis is a free event; registration is required. \nRegister here
URL:https://www.sustainablebainbridge.org/event/sb-partner-bpl-sun-day/
LOCATION:Bainbridge Public Library\, 1270 Madison Avenue\, Bainbridge Island\, WA\, 98110\, United States
CATEGORIES:Climate Action Bainbridge
ATTACH;FMTTYPE=image/png:https://www.sustainablebainbridge.org/wp-content/uploads/2025/08/Sun-Day-logo.png
ORGANIZER;CN="Fran Korten":MAILTO:Fran.Korten@gmail.com
END:VEVENT
BEGIN:VEVENT
DTSTART;TZID=America/Los_Angeles:20231006T130000
DTEND;TZID=America/Los_Angeles:20231006T140000
DTSTAMP:20260421T110807
CREATED:20230929T053855Z
LAST-MODIFIED:20230929T053855Z
UID:10000224-1696597200-1696600800@www.sustainablebainbridge.org
SUMMARY:Make Your Own Garden-Boosting Compost
DESCRIPTION:Organic amendment that feeds the soil ecosystem is the secret to a thriving garden. Learn how simple it is to turn your garden waste and food scraps into nutrient-rich compost at this free\, special session of Veg Club taught by guest speaker and master composter\, John Barutt. \nRegister here \nVeg Club is presented by Bainbridge Prepares Food Resilience Team & the Bainbridge Branch of the Kitsap Regional Library.
URL:https://www.sustainablebainbridge.org/event/make-your-own-garden-boosting-compost/
LOCATION:Bainbridge Public Library\, 1270 Madison Avenue\, Bainbridge Island\, WA\, 98110\, United States
CATEGORIES:Climate Action Bainbridge,Watershed Council,Zero Waste
ATTACH;FMTTYPE=image/jpeg:https://www.sustainablebainbridge.org/wp-content/uploads/2023/09/Compost-in-hands.jpg
ORGANIZER;CN="Carol Appenzeller":MAILTO:carol@hawkapp.com
END:VEVENT
BEGIN:VEVENT
DTSTART;TZID=America/Los_Angeles:20200604T190000
DTEND;TZID=America/Los_Angeles:20200604T210000
DTSTAMP:20260421T110807
CREATED:20200313T222659Z
LAST-MODIFIED:20230320T173619Z
UID:10000110-1591297200-1591304400@www.sustainablebainbridge.org
SUMMARY:Movies that Matter: Motherload
DESCRIPTION:MOTHERLOAD is an award-winning crowdsourced documentary about a new mother’s quest to understand the increasing isolation and disconnection of the digital age\, its planetary impact\, and how cargo bikes could be an antidote \nSee all of the other movies in the series here. \nDownload 2019-2020 Movie Flyer\nFree screenings of environmentally and socially conscious related documentaries followed by conversations with local experts.  Brought to you by these sponsors:
URL:https://www.sustainablebainbridge.org/event/movies-that-matter-motherload/
LOCATION:Bainbridge Public Library\, 1270 Madison Avenue\, Bainbridge Island\, WA\, 98110\, United States
CATEGORIES:Movies That Matter
ATTACH;FMTTYPE=image/jpeg:https://www.sustainablebainbridge.org/wp-content/uploads/2019/12/movies-that-matter-800x600-new.jpg
END:VEVENT
BEGIN:VEVENT
DTSTART;TZID=America/Los_Angeles:20200402T190000
DTEND;TZID=America/Los_Angeles:20200402T210000
DTSTAMP:20260421T110807
CREATED:20200313T220736Z
LAST-MODIFIED:20230320T173621Z
UID:10000109-1585854000-1585861200@www.sustainablebainbridge.org
SUMMARY:Reinventing Power - Movies that Matter
DESCRIPTION:Hear directly from the people making our clean energy future achievable. \nSee all of the other movies in the series here. \nDownload the flyer of the movies dates and times here. \nFree screenings followed by conversations with local experts.  Brought to you by these sponsors:
URL:https://www.sustainablebainbridge.org/event/reinventing-power-movies-that-matter/
LOCATION:Bainbridge Public Library\, 1270 Madison Avenue\, Bainbridge Island\, WA\, 98110\, United States
CATEGORIES:Movies That Matter
ATTACH;FMTTYPE=image/jpeg:https://www.sustainablebainbridge.org/wp-content/uploads/2019/12/movies-that-matter-800x600-new.jpg
END:VEVENT
BEGIN:VEVENT
DTSTART;TZID=America/Los_Angeles:20200305T190000
DTEND;TZID=America/Los_Angeles:20200305T210000
DTSTAMP:20260421T110807
CREATED:20200313T220637Z
LAST-MODIFIED:20230320T173622Z
UID:10000108-1583434800-1583442000@www.sustainablebainbridge.org
SUMMARY:Age of Consequences - Movies that Matter
DESCRIPTION:The “Hurt Locker” meets and “An Inconvenient Truth” to investigate climate change through the lens of US national security and global stability. \nSee all of the other movies in the series here. \nDownload the flyer of the movies dates and times here. \nFree screenings followed by conversations with local experts.  Brought to you by these sponsors:
URL:https://www.sustainablebainbridge.org/event/age-of-consequences-movies-that-matter/
LOCATION:Bainbridge Public Library\, 1270 Madison Avenue\, Bainbridge Island\, WA\, 98110\, United States
CATEGORIES:Movies That Matter
ATTACH;FMTTYPE=image/jpeg:https://www.sustainablebainbridge.org/wp-content/uploads/2019/12/movies-that-matter-800x600-new.jpg
END:VEVENT
BEGIN:VEVENT
DTSTART;TZID=America/Los_Angeles:20200206T190000
DTEND;TZID=America/Los_Angeles:20200206T210000
DTSTAMP:20260421T110807
CREATED:20191210T040628Z
LAST-MODIFIED:20230320T173623Z
UID:10000100-1581015600-1581022800@www.sustainablebainbridge.org
SUMMARY:From the Ashes - Movies that Matter
DESCRIPTION:A compelling look at the lives and issues behind the “war on coal.” \nSee all of the other movies in the series here. \nDownload the flyer of the movies dates and times here. \nFree screenings followed by conversations with local experts.  Brought to you by these sponsors:
URL:https://www.sustainablebainbridge.org/event/from-the-ashes/
LOCATION:Bainbridge Public Library\, 1270 Madison Avenue\, Bainbridge Island\, WA\, 98110\, United States
CATEGORIES:Movies That Matter
ATTACH;FMTTYPE=image/jpeg:https://www.sustainablebainbridge.org/wp-content/uploads/2019/12/movies-that-matter-800x600-new.jpg
END:VEVENT
BEGIN:VEVENT
DTSTART;TZID=America/Los_Angeles:20200109T190000
DTEND;TZID=America/Los_Angeles:20200109T210000
DTSTAMP:20260421T110807
CREATED:20191210T034839Z
LAST-MODIFIED:20230320T173624Z
UID:10000097-1578596400-1578603600@www.sustainablebainbridge.org
SUMMARY:The Biggest Little Farm
DESCRIPTION:Stunning cinematography and a blueprint for better living on a healthy planet. \nSee all of the other movies in the series here. \nDownload the flyer of the movies dates and times here. \nFree screenings followed by conversations with local experts.  Brought to you by these sponsors:
URL:https://www.sustainablebainbridge.org/event/the-biggest-little-farm/
LOCATION:Bainbridge Public Library\, 1270 Madison Avenue\, Bainbridge Island\, WA\, 98110\, United States
CATEGORIES:Movies That Matter
ATTACH;FMTTYPE=image/jpeg:https://www.sustainablebainbridge.org/wp-content/uploads/2019/12/movies-that-matter-800x600-new.jpg
END:VEVENT
END:VCALENDAR